BEGIN:VCALENDAR
VERSION:2.0
PRODID:< http://www.open2c.de/ >
METHOD:PUBLISH
X-PUBLISHED-TTL:PT12H
BEGIN:VEVENT
CREATED:20260319T115418Z
LAST-MODIFIED:20260319T115716Z
ORGANIZER;CN="Krieger- und Soldatenkameradschaft Tacherting"
DTSTAMP:20260420T020151Z
DTSTART:20260519T190000Z
DTEND:20260519T200000Z
CATEGORIES:Kirche
SUMMARY:Maiandacht der KSK Tacherting in Brandstätt
DESCRIPTION:Organisator Krieger- und Soldatenkameradschaft Tacherting
LOCATION:Anwesen Anzenberger in Brandstätt
UID:1b1a2d891d43088943b5a6aa92b7a65d@4e6fb37e097448674d55c1f95b2a5bee
END:VEVENT
END:VCALENDAR