BEGIN:VCALENDAR
VERSION:1.0
PRODID:Open2CKalenderExportV11
BEGIN:VEVENT
DTSTAMP:20260123T084223Z
DTSTART:20260423T143000Z
DTEND:20260423T163000Z
CATEGORIES:Veranstaltung
SUMMARY:STEP Kaffeeklatsch
DESCRIPTION:Gemütliches Treffen bei Kaffee und Kuchen  | Organisator   STEP Nachbarschaftshilfe
LOCATION:Cafeteria Scherer Tacherting
UID:bc1263111b7783aab05dc66468a66202-5a3511d90af94fd71e3d9c04fb8958c4
PRIORITY:3
END:VEVENT
END:VCALENDAR
