BEGIN:VCALENDAR
VERSION:1.0
PRODID:Open2CKalenderExportV11
BEGIN:VEVENT
DTSTAMP:20260121T110321Z
DTSTART:20260627T080000Z
DTEND:20260627T180000Z
CATEGORIES:Sport
SUMMARY:Heimrennen des MSC Tacherting
DESCRIPTION:JugendkartslalomQualifikationswettbewerb Bayerische MeisterschaftQualifikationswettbewerb Deutsche Meisterschaft | Organisator   MSC Tacherting e.V. im DMV
LOCATION:MSC Vereinsheim, Römerstraße 16, 83342 Tacherting
UID:f2db07ad1166228aa252d1187fb01637-0ed12d76e1f12a1f25bf5398965cb763
PRIORITY:3
END:VEVENT
END:VCALENDAR
