BEGIN:VCALENDAR
VERSION:1.0
PRODID:Open2CKalenderExportV11
BEGIN:VEVENT
DTSTAMP:20251215T075152Z
DTSTART:20260925T190000Z
DTEND:20260925T190000Z
CATEGORIES:Verschiedenes
URL:https://www.energie-tacherting.de/
SUMMARY:Energiestammtisch Tacherting
DESCRIPTION:Mit wechselnden Themen lade ich Sie jeden letzten Freitag im Monat zum Energiestammtisch Tacherting ein.  | Die Bevölkerung ist herzlich willkommen. Bei jedem Treffen ist ein Erfahrungsaustausch zwischen PV-Anlagen-Betreibern und -Interessenten möglich. Unter der Homepage www.energie-tacherting.de können monatliche Energiegedanken und Energietipps des Monats abgerufen werden und es besteht dort die Möglichkeit zur Kontaktaufnahme mit dem Energiestammtisch. | Organisator   Petra Blum, Energiereferentin des Gemeinderats | Kontakt   Blum Petra | 08621/61622 | kontakt@energie-tacherting.de
LOCATION:Pizzeria Don Camillo, Altöttinger Str. 3, 83342 Tacherting
UID:9a5f185d00ca57d696f400601e61dbf8-1c33ae3de6fca30786f732e4375c66bf
PRIORITY:3
END:VEVENT
END:VCALENDAR
