BEGIN:VCALENDAR
VERSION:1.0
PRODID:Open2CKalenderExportV11
BEGIN:VEVENT
DTSTAMP:20251215T075128Z
DTSTART:20260828T190000Z
DTEND:20260828T190000Z
CATEGORIES:Verschiedenes
URL:https://www.energie-tacherting.de/
SUMMARY:Energiestammtisch Tacherting
DESCRIPTION:Mit wechselnden Themen lade ich Sie jeden letzten Freitag im Monat zum Energiestammtisch Tacherting ein.  | Die Bevölkerung ist herzlich willkommen. Bei jedem Treffen ist ein Erfahrungsaustausch zwischen PV-Anlagen-Betreibern und -Interessenten möglich. Unter der Homepage www.energie-tacherting.de können monatliche Energiegedanken und Energietipps des Monats abgerufen werden und es besteht dort die Möglichkeit zur Kontaktaufnahme mit dem Energiestammtisch. | Organisator   Petra Blum, Energiereferentin des Gemeinderats
LOCATION:Pizzeria Don Camillo, Altöttinger Str. 3, 83342 Tacherting
UID:2a2558fdf56cb53ac3c2217bd8b4a90c-7ba20341701175d2a31062833d3fc617
PRIORITY:3
END:VEVENT
END:VCALENDAR
